BEGIN:VCALENDAR
VERSION:2.0
PRODID:-//Bellows Air Force Station - ECPv6.15.20//NONSGML v1.0//EN
CALSCALE:GREGORIAN
METHOD:PUBLISH
X-WR-CALNAME:Bellows Air Force Station
X-ORIGINAL-URL:https://bellowsafs.com
X-WR-CALDESC:Events for Bellows Air Force Station
REFRESH-INTERVAL;VALUE=DURATION:PT1H
X-Robots-Tag:noindex
X-PUBLISHED-TTL:PT1H
BEGIN:VTIMEZONE
TZID:Pacific/Honolulu
BEGIN:STANDARD
TZOFFSETFROM:-1000
TZOFFSETTO:-1000
TZNAME:HST
DTSTART:20250101T000000
END:STANDARD
END:VTIMEZONE
BEGIN:VEVENT
DTSTART;TZID=Pacific/Honolulu:20260426T073000
DTEND;TZID=Pacific/Honolulu:20260426T083000
DTSTAMP:20260425T014338
CREATED:20260306T035832Z
LAST-MODIFIED:20260306T035832Z
UID:10002879-1777188600-1777192200@bellowsafs.com
SUMMARY:Relaxing Sound Bath
DESCRIPTION:A Certified Sound Bath Practitioner plays chimes\, tingsha cymbal bell\, nut shaker\, crystal singing bowls\, and other instruments to guide you to be more present\, connect with your body and nature\, and\, most importantly\, quiet your mind and reduce stress. The session begins with a quick\, gentle stretch. Attendees then lay down to enjoy the various unique sounds. \n$60 per person \nPlease bring a yoga mat\, towel\, or something to lay down on\, an eye mask if you have one\, and a water bottle. Dress comfortably and bring a sweater or blanket if you get cold easily. \nAges 10 & over. 17 & under must be accompanied by an adult. \nSubject to change or cancellation due to weather and ocean conditions. \nReservations are required 24 hours in advance. \nFor more information and to book your spot\, call Turtle Cove\, daily • 8 am – 6 pm (808) 259-4135.
URL:https://bellowsafs.com/event/relaxing-sound-bath-9/2026-04-26/
CATEGORIES:harmony
ATTACH;FMTTYPE=image/jpeg:https://bellowsafs.com/wp-content/uploads/Sound-Bath-FB.jpg
END:VEVENT
BEGIN:VEVENT
DTSTART;TZID=Pacific/Honolulu:20260426T084500
DTEND;TZID=Pacific/Honolulu:20260426T094500
DTSTAMP:20260425T014338
CREATED:20260306T035919Z
LAST-MODIFIED:20260306T035919Z
UID:10002888-1777193100-1777196700@bellowsafs.com
SUMMARY:Relaxing Sound Bath
DESCRIPTION:A Certified Sound Bath Practitioner plays chimes\, tingsha cymbal bell\, nut shaker\, crystal singing bowls\, and other instruments to guide you to be more present\, connect with your body and nature\, and\, most importantly\, quiet your mind and reduce stress. The session begins with a quick\, gentle stretch. Attendees then lay down to enjoy the various unique sounds. \n$60 per person \nPlease bring a yoga mat\, towel\, or something to lay down on\, an eye mask if you have one\, and a water bottle. Dress comfortably and bring a sweater or blanket if you get cold easily. \nAges 10 & over. 17 & under must be accompanied by an adult. \nSubject to change or cancellation due to weather and ocean conditions. \nReservations are required 24 hours in advance. \nFor more information and to book your spot\, call Turtle Cove\, daily • 8 am – 6 pm (808) 259-4135.
URL:https://bellowsafs.com/event/relaxing-sound-bath-10/2026-04-26/
CATEGORIES:harmony
ATTACH;FMTTYPE=image/jpeg:https://bellowsafs.com/wp-content/uploads/Sound-Bath-FB.jpg
END:VEVENT
BEGIN:VEVENT
DTSTART;TZID=Pacific/Honolulu:20260503T073000
DTEND;TZID=Pacific/Honolulu:20260503T083000
DTSTAMP:20260425T014338
CREATED:20260413T203928Z
LAST-MODIFIED:20260413T203928Z
UID:10002940-1777793400-1777797000@bellowsafs.com
SUMMARY:Relaxing Sound Bath
DESCRIPTION:A Certified Sound Bath Practitioner plays chimes\, tingsha cymbal bell\, nut shaker\, crystal singing bowls\, and other instruments to guide you to be more present\, connect with your body and nature\, and\, most importantly\, quiet your mind and reduce stress. The session begins with a quick\, gentle stretch. Attendees then lay down to enjoy the various unique sounds. \n$60 per person \nPlease bring a yoga mat\, towel\, or something to lay down on\, an eye mask if you have one\, and a water bottle. Dress comfortably and bring a sweater or blanket if you get cold easily. \nAges 10 & over. 17 & under must be accompanied by an adult. \nSubject to change or cancellation due to weather and ocean conditions. \nReservations are required 24 hours in advance. \nFor more information and to book your spot\, call Turtle Cove\, daily • 8 am – 6 pm (808) 259-4135.
URL:https://bellowsafs.com/event/relaxing-sound-bath-15/2026-05-03/
CATEGORIES:harmony
ATTACH;FMTTYPE=image/jpeg:https://bellowsafs.com/wp-content/uploads/Sound-Bath-FB.jpg
END:VEVENT
BEGIN:VEVENT
DTSTART;TZID=Pacific/Honolulu:20260503T084500
DTEND;TZID=Pacific/Honolulu:20260503T094500
DTSTAMP:20260425T014338
CREATED:20260413T203949Z
LAST-MODIFIED:20260413T203949Z
UID:10002945-1777797900-1777801500@bellowsafs.com
SUMMARY:Relaxing Sound Bath
DESCRIPTION:A Certified Sound Bath Practitioner plays chimes\, tingsha cymbal bell\, nut shaker\, crystal singing bowls\, and other instruments to guide you to be more present\, connect with your body and nature\, and\, most importantly\, quiet your mind and reduce stress. The session begins with a quick\, gentle stretch. Attendees then lay down to enjoy the various unique sounds. \n$60 per person \nPlease bring a yoga mat\, towel\, or something to lay down on\, an eye mask if you have one\, and a water bottle. Dress comfortably and bring a sweater or blanket if you get cold easily. \nAges 10 & over. 17 & under must be accompanied by an adult. \nSubject to change or cancellation due to weather and ocean conditions. \nReservations are required 24 hours in advance. \nFor more information and to book your spot\, call Turtle Cove\, daily • 8 am – 6 pm (808) 259-4135.
URL:https://bellowsafs.com/event/relaxing-sound-bath-16/2026-05-03/
CATEGORIES:harmony
ATTACH;FMTTYPE=image/jpeg:https://bellowsafs.com/wp-content/uploads/Sound-Bath-FB.jpg
END:VEVENT
BEGIN:VEVENT
DTSTART;TZID=Pacific/Honolulu:20260510T073000
DTEND;TZID=Pacific/Honolulu:20260510T083000
DTSTAMP:20260425T014338
CREATED:20260413T203928Z
LAST-MODIFIED:20260413T203928Z
UID:10002941-1778398200-1778401800@bellowsafs.com
SUMMARY:Relaxing Sound Bath
DESCRIPTION:A Certified Sound Bath Practitioner plays chimes\, tingsha cymbal bell\, nut shaker\, crystal singing bowls\, and other instruments to guide you to be more present\, connect with your body and nature\, and\, most importantly\, quiet your mind and reduce stress. The session begins with a quick\, gentle stretch. Attendees then lay down to enjoy the various unique sounds. \n$60 per person \nPlease bring a yoga mat\, towel\, or something to lay down on\, an eye mask if you have one\, and a water bottle. Dress comfortably and bring a sweater or blanket if you get cold easily. \nAges 10 & over. 17 & under must be accompanied by an adult. \nSubject to change or cancellation due to weather and ocean conditions. \nReservations are required 24 hours in advance. \nFor more information and to book your spot\, call Turtle Cove\, daily • 8 am – 6 pm (808) 259-4135.
URL:https://bellowsafs.com/event/relaxing-sound-bath-15/2026-05-10/
CATEGORIES:harmony
ATTACH;FMTTYPE=image/jpeg:https://bellowsafs.com/wp-content/uploads/Sound-Bath-FB.jpg
END:VEVENT
BEGIN:VEVENT
DTSTART;TZID=Pacific/Honolulu:20260510T084500
DTEND;TZID=Pacific/Honolulu:20260510T094500
DTSTAMP:20260425T014338
CREATED:20260413T203949Z
LAST-MODIFIED:20260413T203949Z
UID:10002946-1778402700-1778406300@bellowsafs.com
SUMMARY:Relaxing Sound Bath
DESCRIPTION:A Certified Sound Bath Practitioner plays chimes\, tingsha cymbal bell\, nut shaker\, crystal singing bowls\, and other instruments to guide you to be more present\, connect with your body and nature\, and\, most importantly\, quiet your mind and reduce stress. The session begins with a quick\, gentle stretch. Attendees then lay down to enjoy the various unique sounds. \n$60 per person \nPlease bring a yoga mat\, towel\, or something to lay down on\, an eye mask if you have one\, and a water bottle. Dress comfortably and bring a sweater or blanket if you get cold easily. \nAges 10 & over. 17 & under must be accompanied by an adult. \nSubject to change or cancellation due to weather and ocean conditions. \nReservations are required 24 hours in advance. \nFor more information and to book your spot\, call Turtle Cove\, daily • 8 am – 6 pm (808) 259-4135.
URL:https://bellowsafs.com/event/relaxing-sound-bath-16/2026-05-10/
CATEGORIES:harmony
ATTACH;FMTTYPE=image/jpeg:https://bellowsafs.com/wp-content/uploads/Sound-Bath-FB.jpg
END:VEVENT
BEGIN:VEVENT
DTSTART;TZID=Pacific/Honolulu:20260517T073000
DTEND;TZID=Pacific/Honolulu:20260517T083000
DTSTAMP:20260425T014338
CREATED:20260413T203928Z
LAST-MODIFIED:20260413T203928Z
UID:10002942-1779003000-1779006600@bellowsafs.com
SUMMARY:Relaxing Sound Bath
DESCRIPTION:A Certified Sound Bath Practitioner plays chimes\, tingsha cymbal bell\, nut shaker\, crystal singing bowls\, and other instruments to guide you to be more present\, connect with your body and nature\, and\, most importantly\, quiet your mind and reduce stress. The session begins with a quick\, gentle stretch. Attendees then lay down to enjoy the various unique sounds. \n$60 per person \nPlease bring a yoga mat\, towel\, or something to lay down on\, an eye mask if you have one\, and a water bottle. Dress comfortably and bring a sweater or blanket if you get cold easily. \nAges 10 & over. 17 & under must be accompanied by an adult. \nSubject to change or cancellation due to weather and ocean conditions. \nReservations are required 24 hours in advance. \nFor more information and to book your spot\, call Turtle Cove\, daily • 8 am – 6 pm (808) 259-4135.
URL:https://bellowsafs.com/event/relaxing-sound-bath-15/2026-05-17/
CATEGORIES:harmony
ATTACH;FMTTYPE=image/jpeg:https://bellowsafs.com/wp-content/uploads/Sound-Bath-FB.jpg
END:VEVENT
BEGIN:VEVENT
DTSTART;TZID=Pacific/Honolulu:20260517T084500
DTEND;TZID=Pacific/Honolulu:20260517T094500
DTSTAMP:20260425T014338
CREATED:20260413T203949Z
LAST-MODIFIED:20260413T203949Z
UID:10002947-1779007500-1779011100@bellowsafs.com
SUMMARY:Relaxing Sound Bath
DESCRIPTION:A Certified Sound Bath Practitioner plays chimes\, tingsha cymbal bell\, nut shaker\, crystal singing bowls\, and other instruments to guide you to be more present\, connect with your body and nature\, and\, most importantly\, quiet your mind and reduce stress. The session begins with a quick\, gentle stretch. Attendees then lay down to enjoy the various unique sounds. \n$60 per person \nPlease bring a yoga mat\, towel\, or something to lay down on\, an eye mask if you have one\, and a water bottle. Dress comfortably and bring a sweater or blanket if you get cold easily. \nAges 10 & over. 17 & under must be accompanied by an adult. \nSubject to change or cancellation due to weather and ocean conditions. \nReservations are required 24 hours in advance. \nFor more information and to book your spot\, call Turtle Cove\, daily • 8 am – 6 pm (808) 259-4135.
URL:https://bellowsafs.com/event/relaxing-sound-bath-16/2026-05-17/
CATEGORIES:harmony
ATTACH;FMTTYPE=image/jpeg:https://bellowsafs.com/wp-content/uploads/Sound-Bath-FB.jpg
END:VEVENT
BEGIN:VEVENT
DTSTART;TZID=Pacific/Honolulu:20260524T073000
DTEND;TZID=Pacific/Honolulu:20260524T083000
DTSTAMP:20260425T014338
CREATED:20260413T203928Z
LAST-MODIFIED:20260413T203928Z
UID:10002943-1779607800-1779611400@bellowsafs.com
SUMMARY:Relaxing Sound Bath
DESCRIPTION:A Certified Sound Bath Practitioner plays chimes\, tingsha cymbal bell\, nut shaker\, crystal singing bowls\, and other instruments to guide you to be more present\, connect with your body and nature\, and\, most importantly\, quiet your mind and reduce stress. The session begins with a quick\, gentle stretch. Attendees then lay down to enjoy the various unique sounds. \n$60 per person \nPlease bring a yoga mat\, towel\, or something to lay down on\, an eye mask if you have one\, and a water bottle. Dress comfortably and bring a sweater or blanket if you get cold easily. \nAges 10 & over. 17 & under must be accompanied by an adult. \nSubject to change or cancellation due to weather and ocean conditions. \nReservations are required 24 hours in advance. \nFor more information and to book your spot\, call Turtle Cove\, daily • 8 am – 6 pm (808) 259-4135.
URL:https://bellowsafs.com/event/relaxing-sound-bath-15/2026-05-24/
CATEGORIES:harmony
ATTACH;FMTTYPE=image/jpeg:https://bellowsafs.com/wp-content/uploads/Sound-Bath-FB.jpg
END:VEVENT
BEGIN:VEVENT
DTSTART;TZID=Pacific/Honolulu:20260524T084500
DTEND;TZID=Pacific/Honolulu:20260524T094500
DTSTAMP:20260425T014338
CREATED:20260413T203949Z
LAST-MODIFIED:20260413T203949Z
UID:10002948-1779612300-1779615900@bellowsafs.com
SUMMARY:Relaxing Sound Bath
DESCRIPTION:A Certified Sound Bath Practitioner plays chimes\, tingsha cymbal bell\, nut shaker\, crystal singing bowls\, and other instruments to guide you to be more present\, connect with your body and nature\, and\, most importantly\, quiet your mind and reduce stress. The session begins with a quick\, gentle stretch. Attendees then lay down to enjoy the various unique sounds. \n$60 per person \nPlease bring a yoga mat\, towel\, or something to lay down on\, an eye mask if you have one\, and a water bottle. Dress comfortably and bring a sweater or blanket if you get cold easily. \nAges 10 & over. 17 & under must be accompanied by an adult. \nSubject to change or cancellation due to weather and ocean conditions. \nReservations are required 24 hours in advance. \nFor more information and to book your spot\, call Turtle Cove\, daily • 8 am – 6 pm (808) 259-4135.
URL:https://bellowsafs.com/event/relaxing-sound-bath-16/2026-05-24/
CATEGORIES:harmony
ATTACH;FMTTYPE=image/jpeg:https://bellowsafs.com/wp-content/uploads/Sound-Bath-FB.jpg
END:VEVENT
BEGIN:VEVENT
DTSTART;TZID=Pacific/Honolulu:20260531T073000
DTEND;TZID=Pacific/Honolulu:20260531T083000
DTSTAMP:20260425T014338
CREATED:20260413T203928Z
LAST-MODIFIED:20260413T203928Z
UID:10002944-1780212600-1780216200@bellowsafs.com
SUMMARY:Relaxing Sound Bath
DESCRIPTION:A Certified Sound Bath Practitioner plays chimes\, tingsha cymbal bell\, nut shaker\, crystal singing bowls\, and other instruments to guide you to be more present\, connect with your body and nature\, and\, most importantly\, quiet your mind and reduce stress. The session begins with a quick\, gentle stretch. Attendees then lay down to enjoy the various unique sounds. \n$60 per person \nPlease bring a yoga mat\, towel\, or something to lay down on\, an eye mask if you have one\, and a water bottle. Dress comfortably and bring a sweater or blanket if you get cold easily. \nAges 10 & over. 17 & under must be accompanied by an adult. \nSubject to change or cancellation due to weather and ocean conditions. \nReservations are required 24 hours in advance. \nFor more information and to book your spot\, call Turtle Cove\, daily • 8 am – 6 pm (808) 259-4135.
URL:https://bellowsafs.com/event/relaxing-sound-bath-15/2026-05-31/
CATEGORIES:harmony
ATTACH;FMTTYPE=image/jpeg:https://bellowsafs.com/wp-content/uploads/Sound-Bath-FB.jpg
END:VEVENT
BEGIN:VEVENT
DTSTART;TZID=Pacific/Honolulu:20260531T084500
DTEND;TZID=Pacific/Honolulu:20260531T094500
DTSTAMP:20260425T014338
CREATED:20260413T203949Z
LAST-MODIFIED:20260413T203949Z
UID:10002949-1780217100-1780220700@bellowsafs.com
SUMMARY:Relaxing Sound Bath
DESCRIPTION:A Certified Sound Bath Practitioner plays chimes\, tingsha cymbal bell\, nut shaker\, crystal singing bowls\, and other instruments to guide you to be more present\, connect with your body and nature\, and\, most importantly\, quiet your mind and reduce stress. The session begins with a quick\, gentle stretch. Attendees then lay down to enjoy the various unique sounds. \n$60 per person \nPlease bring a yoga mat\, towel\, or something to lay down on\, an eye mask if you have one\, and a water bottle. Dress comfortably and bring a sweater or blanket if you get cold easily. \nAges 10 & over. 17 & under must be accompanied by an adult. \nSubject to change or cancellation due to weather and ocean conditions. \nReservations are required 24 hours in advance. \nFor more information and to book your spot\, call Turtle Cove\, daily • 8 am – 6 pm (808) 259-4135.
URL:https://bellowsafs.com/event/relaxing-sound-bath-16/2026-05-31/
CATEGORIES:harmony
ATTACH;FMTTYPE=image/jpeg:https://bellowsafs.com/wp-content/uploads/Sound-Bath-FB.jpg
END:VEVENT
END:VCALENDAR